Workbook
Name _Hlk68675965: 'Form 3E - As-built'!#REF!
Name Logo: INDEX(Tables!$F$32:$F$38,MATCH(Tables!$F$14,Tables!$E$32:$E$38,0))
Name Material: Tables!$D$2:$D$10
Name Shape: Tables!$F$2:$F$9

Sheet Tables
A1: Workbook Lock Configuration | D1: Material | F1: Shape | H1: Type | J1: Design Response | K1: 1 | L1: Lookup Table | M1: Baldwin County | N1: Hoover | O1: Jefferson | P1: Lee County | Q1: Mobile | R1: Montgomery | S1: Prattville
A2: Lock Date: | B2: =EDATE(F$13,B3) -> 46661 | D2: Concrete | F2: Arch | H2: Select: | J2: Pre Total not compeleted | K2: 2 | L2: (WQ) | M2: 1 | N2: 1.1 | O2: 1.1 | P2: 1.1 | Q2: 1.2 | R2: 1.1 | S2: 1.1
A3: Active Months: | B3: 13 | D3: HDPE | F3: Elliptical | H3: Orifice: | J3: Storm Sewer Discharges not completed | K3: 3 | L3: (2-yr) | M3: 6.02 | N3: 4.11 | O3: 4.14 | P3: 4.12 | Q3: 5.7 | R3: 4.24 | S3: 4.21
A4: Override LockD and Time: | D4: HDPP | F4: Rectangle | H4: Weir: | J4: Emergency Spillway Section not completed | K4: 4 | L4: (5-yr) | M4: 7.68 | N4: 5.01 | O4: 5.06 | P4: 5.05 | Q4: 7.21 | R4: 5.3 | S4: 5.24
A5: Admin Unlock Code: | B5: bds958hc | D5: Metal | F5: Round | J5: Total Post Q > Pre Q | K5: 5 | L5: (10-yr) | M5: 9.26 | N5: 5.87 | O5: 5.91 | P5: 5.83 | Q5: 8.63 | R5: 6.24 | S5: 6.17
A6: Computed Lock Date and Time: | B6: =IF(ISBLANK($B$4),$B$2,$B$4) -> 46661 | D6: PVC | F6: Square | J6: ="Velocity > "&F26&" ft/s" -> Velocity > 6 ft/s | K6: 6 | L6: (25-yr) | M6: 11.7 | N6: 7.21 | O6: 7.26 | P6: 6.91 | Q6: 10.8 | R6: 7.64 | S6: 7.55
A7: Accepted Flag: | B7: =IF(License!$F$2="I ACCEPT",TRUE,FALSE) -> FALSE | D7: Other | F7: Other | J7: Max Stage for 2, 5, 10, and/or 25-year storm > Emergency Spillway Crest Elevation | K7: 7 | L7: (50-yr) | M7: 13.9 | N7: 8.37 | O7: 8.48 | P7: 7.75 | Q7: 12.7 | R7: 8.8 | S7: 8.7
A8: Gate OK: | B8: =OR(License!$F$4=B5, AND(B7=TRUE, NOW()<B6)) -> FALSE | J8: Latitude and/or Longitude not provided | K8: 8 | L8: (100-yr) | M8: 16.3 | N8: 9.65 | O8: 9.83 | P8: 8.6 | Q8: 14.8 | R8: 10 | S8: 9.93
J9: WQv Required > WQv Provided | K9: 9 | L9: Effective Date: | M9: 40574 | N9: 1 February 2020 | O9: 1 October 2020 | Q9: 1 October 2015 | R9: 1 October 2015 | S9: 1 July 2018
J10: As-Built does not match Design | K10: 10 | L10: Type: | M10: County | N10: City | O10: County | P10: County | Q10: City | R10: City | S10: City
B11: Acceptance Table | J11: Hydrodynamic Separator / Snout is not located on private property | K11: 11 | L11: Maintenance Agreement: | M11: O&M Plan | N11: Covenant | O11: O&M Agreement | Q11: O&M Agreement | R11: O&M Agreement | S11: O&M Agreement
B12: Selection Required | J12: Hydrodynamic Separator / Snout is not accessable for maintenance | K12: 12 | L12: Permit Type: | Q12: Engineering or Building No. | R12: ENG No.
B13: I ACCEPT | D13: Revision Date: | F13: 46266 | J13: Engineering or Building Number has not been provided | K13: 13 | L13: Max Velocity: | M13: 6 | N13: 5 | O13: 5 | P13: 6 | Q13: 5 | R13: 6 | S13: 6
B14: I DO NOT ACCEPT | D14: Select City: | F14: Baldwin County | J14: Manufacturer's data is incomplete | K14: 14 | L14: Insp Report Due: | M14: 31 December | Q14: 31 December | R14: 30 Septbember | S14: 1 September
D15: (WQ) | F15: =HLOOKUP($F$14,$M$1:$S$15,2) -> 1 | G15: =TEXT(F15,"0.00") -> 1.00 | J15: Treatment / Design Flow Rate is not provided | K15: 15 | L15: Storms: | M15: 2, 5, 10, 25, 50, and 100 | N15: 2, 5, 10, and 25 | O15: 2, 5, 10, 25, 50, and 100 | P15: 2, 5, 10, 25, 50, and 100 | Q15: 2, 5, 10, and 25 | R15: 2, 5, 10, and 25 | S15: 2, 5, 10, and 25
D16: (2-yr) | F16: =HLOOKUP($F$14,$M$1:$S$15,3) -> 6.02 | J16: Maximum Sediment Depth is not provided | K16: 16 | L16: Entity: | M16: Baldwin County | N16: the City of Hoover | O16: Jefferson County | P16: Lee County | Q16: the City of Mobile | R16: the City of Montgomery | S16: the City of Prattville
D17: (5-yr) | F17: =HLOOKUP($F$14,$M$1:$S$15,4) -> 7.68 | J17: Rim EL. is not provided
D18: (10-yr) | F18: =HLOOKUP($F$14,$M$1:$S$15,5) -> 9.26 | J18: Sump EL. is not provided
D19: (25-yr) | F19: =HLOOKUP($F$14,$M$1:$S$15,6) -> 11.7 | J19: Outlete Pipe Invert EL. is not provided
D20: (50-yr) | F20: =HLOOKUP($F$14,$M$1:$S$15,7) -> 13.9 | J20: Diameter or width x length is not provided
D21: (100-yr) | F21: =HLOOKUP($F$14,$M$1:$S$15,8) -> 16.3 | J21: Latitude and/or Longitude has been entered as text. Change to a number.
D22: Effective Date: | F22: =HLOOKUP($F$14,$M$1:$S$15,9) -> 40574 | J22: Parcel No. has not been provided
D23: Entity Type: | F23: =HLOOKUP($F$14,$M$1:$S$15,10) -> County | J23: Maximum Floatable / Oil Depth is not provided
D24: Maintenance Agreement: | F24: =HLOOKUP($F$14,$M$1:$S$15,11) -> O&M Plan | J24: Maximum Sediment Depth is higher than the Outlet Pipe Inv.
D25: Permit Type: | F25: =HLOOKUP($F$14,$M$1:$S$15,12) -> 0
D26: Max Velocity: | F26: =HLOOKUP($F$14,$M$1:$S$15,13) -> 6
D27: Insp Report Due: | F27: =HLOOKUP($F$14,$M$1:$S$15,14) -> 31 December
D28: Storms: | F28: =HLOOKUP($F$14,$M$1:$S$15,15) -> 2, 5, 10, 25, 50, and 100
D29: Entity: | F29: =HLOOKUP($F$14,$M$1:$S$24,16) -> Baldwin County
H31: Current Logo
E32: Baldwin County
E33: Hoover
E34: Jefferson
E35: Lee County | F35: #VALUE!
E36: Mobile
E37: Montgomery
E38: Prattville

Sheet License
C1: END USER LICENSE AGREEMENT (EULA) | N1: Effective Date: | O1: =Tables!F13 -> 46266
A2: =IF(OR(F2="I ACCEPT",F2="I DO NOT ACCEPT"),1,2) -> 2 | E2: Acceptance (required): | F2: Selection Required | N2: Expiration Date: | O2: =Tables!B6 -> 46661
A3: =IF(F3="Workbook is Locked and Unavailable",2,1) -> 2 | E3: Current Status: | F3: =IF(Tables!$B$8,"Workbook is Active","Workbook is Locked and Unavailable") -> Workbook is Locked and Unavailable
E4: Administrator Code (Hidden):
E6: IMPORTANT - READ BEFORE USE: | F6: This workbook and its embedded logic, validators, and scripts (collectively, the "Tool") are proprietary to Hydro, LLC ("Licensor").
F7: ="By clicking I ACCEPT above, you represent that you are (a) preparing a post-construction submittal for "&Tables!$F$29&" and/or" -> By clicking I ACCEPT above, you represent that you are (a) preparing a post-construction submittal for Baldwin County and/or
F8: maintaining internal records for that submittal; and (b) you have authority to bind your organization ("User"). If you are not
F9: authorized, do not use the Tool.
D11: 1 | E11: Limited License
F12: Licensor grants the User a non-exclusive, non-transferable, non-sublicensable, revocable license to use the Tool soley to prepare
F13: ="and submit post-construction application materials to "&Tables!$F$29&" and for the User's internal recordkeeping for those" -> and submit post-construction application materials to Baldwin County and for the User's internal recordkeeping for those
F14: submissions. All other uses, including redistribution, public posting, training, or use for other agencies, are prohibited unless
F15: agreed in writing.
D16: 2 | E16: Ownership; No Work-for-Hire
F17: The Tool is licensed, not sold. Licensor retains all right, title, and interest in and to the Tool, including all formulas, code,
F18: templates, and documentation. The Tool is not a work made for hire and no implied licenses are granted.
D19: 3 | E19: Restrictions
F20: The User shall not and shall not permit others to: (a) copy, modify, decompile, or reverse-engineer the Tool; (b) remove proprietary
F21: notices, logos, or watermarks; (c) bypass or disable protections; or (d) redistribute the Tool to third parties (other than submitting filled
F22: ="forms to the "&Tables!$F$23&" as intended. The "&Tables!$F$23&" may host and distribute the unmodified Tool to prospective submitters for" -> forms to the County as intended. The County may host and distribute the unmodified Tool to prospective submitters for
F23: the permitted purpose.
D24: 4 | E24: Suspension and Termination
F25: Licensor may suspend immediately if the Tool is misused, compromised, or used in a manner creating security, legal, or reputational risk.
F26: Upon expiration/termination, User shall stop using the Tool, but may retain archive copies of completed submissions an records
F27: created during the Term.
D28: 5 | E28: Public Records Acknowledgment
F29: ="Outputs and application materials generated with the Tool may be public records of "&Tables!$F$29&"; the Tool itself" -> Outputs and application materials generated with the Tool may be public records of Baldwin County; the Tool itself
F30: (including templates, code, logic) remains Licensor's proprietary material and is not a public record merely by being used to creat submittions.
D31: 6 | E31: No Professional Services; User Responsibility
F32: ="The Tool is a convenience aid and does not constitute engineering, legal or compliance advice. The "&Tables!$F$29&"'s standards and" -> The Tool is a convenience aid and does not constitute engineering, legal or compliance advice. The Baldwin County's standards and
F33: regulations control. User is solely responsible for the accuracy and completeness of all data and deliverables.
D34: 7 | E34: Disclaimers; Limitation of Liability
F35: The Tool is provided "AS IS". Licensor disclaims all warranties, express or implied (including merchantability, fitness for a particular
F36: purpose, and non-infringement.) To the Maximum extent permitted by law, Licensor will not be liable for indirect, incidental,
F37: special, consequential, or punitive damages.
D38: 8 | E38: Injunctive Relief
F39: Unathorized use, copying, or distribution of the Tool will cause irreparable harm for which monetary damages are inadequate;
F40: Licensor may seek injunctive relief in addition to other remedies.
D41: 9 | E41: Feedback
F42: Suggestions or feedback may be used by Licensor without restriction or obligation.
...

Sheet General Instructions
B2: General Instructions
B4: 1 | C4: Complete Design Form with the required design information. Once the Design Form is completed, most of the Design section of the As-built Form will be prepopulated.
B6: =B4+1 -> 2 | C6: Field Types
I7: Enter data as applicable for the proposed design.
I9: This is a required field. Once a number or text is entered, the green highlight will be removed.
I12: This is a required field. Place an "X" in the appropriate box and the green highlight will be removed. In some cases, the selection is optional. Once an option is completed, additional fields will be highlighted green and in some fields the green highlight will be removed.
D17: Yes | G17: No | I17: Select either "Yes" or "No" by placing an "X" in the appropriate box. Once an "X" is entered, the green highlight will be removed.
I20: If a field is highlighted yellow after a number is entered, the yellow highlight may indicate an error and/or concern. Once the error and/or concern is resolved, the yellow highlight will be removed. All yellow highlighted cells shall be resolved or an explanitation provided prior to completing the form.
I25: This is a calculated field. Once the required information is entered, the orange highlight will be removed.
C28: Select | I28: Use the drop down list to select an orifice or weir.
C30: Shape | I30: Use the drop down list to select a shape.
C32: Material | I32: Use the drop down list to select a material.
B34: =B6+1 -> 3 | C34: The Supplemental Instructions provide additional guidance and design standards.
B35: =B34+1 -> 4 | C35: Once the Design, As-built, or Inspection Forms are completed, there should be no green, yellow, or orange highlighted fields.
B37: 5 | C37: Automated Review Checks: Once information and data are entered into the form, the form will check the information entered and identify any potential issues or concerns. Prior to printing the form, all automated comments shall be resolved.
B40: 6 | C40: Each Form shall be signed, sealed, and dated by a professional engineer registered in Alabama.

Sheet Form 2E - Design
O1: Form 2E - Hydrodynamic Separator or Snout / Hood Design Form | BJ1: =O1 -> Form 2E - Hydrodynamic Separator or Snout / Hood Design Form
B6: Development Information | AB6: Parcel No.: | AV6: Supplemental Instructions
D7: Name: | AD7: Date:
D8: Address: | AD8: BMP ID: | AV8: General design standards and requirements shall be as follows:
E10: Attachments: | H10: Design Drawings | P10: H&H Calculations | Y10: Drainage Basin Maps | AV10: 1 | AW10: A hydrodynamic separator or snout / hood shall not be located within a floodplain or floodway;
H12: Manufacturer Data | P12: Maintenance Plan | AV12: =AV10+1 -> 2 | AW12: Installation of a hydrodynamic separator or snout / hood shall not adversely impact and/or cause flooding of properties located
F14: Select Area Units: | H14: ac | K14: sq-ft | Z14: Total Area: | AE14: =IF($AM$16=0,"Units?",IF($AM$16=1,"ac",IF($AM$16=2,"sq-ft","Error"))) -> Units? | AL14: =IF(AND(ISBLANK(G14),ISBLANK(J14)),1,2) -> 1 | AM14: =IF(ISBLANK(G14),0,1) -> 0 | AO14: EIA = | AP14: =IF($AM$16=2,AA15/43560,AA15) -> 0 | AQ14: ac | AW14: within, upstream, and/or downstream of the development;
B15: Proposed Impervious Area (PIA) | Z15: Existing Impervious Area (EIA): | AE15: =IF($AM$16=0,"Units?",IF($AM$16=1,"ac",IF($AM$16=2,"sq-ft","Error"))) -> Units? | AM15: =IF(ISBLANK(J14),0,2) -> 0 | AO15: PIA = | AP15: =IF($AM$16=2,J21/43560,J21) -> 0 | AQ15: ac | AV15: =AV12+1 -> 3 | AW15: Hydrodynamic separator or snout / hood shall be located within a private easement or on private property;
I16: Buildings / Structures: | N16: =IF($AM$16=0,"Units?",IF($AM$16=1,"ac",IF($AM$16=2,"sq-ft","Error"))) -> Units? | S16: Additional Impervious Area (AIA) = PIA - EIA | AM16: =SUM(AM14:AM15) -> 0 | AN16: Units Check | AO16: AIA = | AP16: =AP15-AP14 -> 0 | AQ16: ac | AV16: =AV15+1 -> 4 | AW16: The calculation methodology shall utilize the Natural Resources Conservation Service (NRCS) Urban
I17: Driveways / Sidewalks: | N17: =IF($AM$16=0,"Units?",IF($AM$16=1,"ac",IF($AM$16=2,"sq-ft","Error"))) -> Units? | V17: AIA = | W17: =IF(AL17=1,"0.00",IFERROR(IF($J$21-$AA$15<0,0,$J$21-$AA$15),"")) -> 0 | AA17: =IF($AM$16=0,"Units?",IF($AM$16=1,"ac",IF($AM$16=2,"sq-ft","Error"))) -> Units? | AD17: AIA = | AE17: =AP16 -> 0 | AI17: ac | AL17: =IF(AND(J21=0,ISBLANK(AA15)),0,IF(OR(J21-AA15=0,J21-AA15<0),1,2)) -> 0 | AM17: ac or sq-ft selection | AW17: ="Hydrology for Small Watersheds Technical Release 55 (TR-55) or equivalent as approved by the "&Tables!$F$23&" Engineer;" -> Hydrology for Small Watersheds Technical Release 55 (TR-55) or equivalent as approved by the County Engineer;
I18: Roads: | N18: =IF($AM$16=0,"Units?",IF($AM$16=1,"ac",IF($AM$16=2,"sq-ft","Error"))) -> Units? | S18: Water Quality Volume (WQv): | AV18: =AV16+1 -> 5 | AW18: A stormwater pathway (i.e. piped storm sewer, overland flow, etc.) within the development shall
I19: Parking: | N19: =IF($AM$16=0,"Units?",IF($AM$16=1,"ac",IF($AM$16=2,"sq-ft","Error"))) -> Units? | V19: WQv = | W19: ="AIA acres X "&Tables!G15& " in X 3,630" -> AIA acres X 1.00 in X 3,630 | AW19: be provided to convey the discharge resulting from a 100-year, 24-hour storm event in a manner that
I20: Other: | J20: 0 | N20: =IF($AM$16=0,"Units?",IF($AM$16=1,"ac",IF($AM$16=2,"sq-ft","Error"))) -> Units? | V20: WQv = | W20: =IF(AL17=1,"0.00",IFERROR(IF($J$21-$AA$15<0,0,$AP$16),"")) -> 0 | AA20: ="acres X "&Tables!G15&" in X 3,630" -> acres X 1.00 in X 3,630 | AW20: will not adversely impact and/or cause flooding of structures within the development;
I21: Total PIA: | J21: =IF(SUM($J$16:$J$20)=0,0,SUM($J$16:$J$20)) -> 0 | N21: =IF($AM$16=0,"Units?",IF($AM$16=1,"ac",IF($AM$16=2,"sq-ft","Error"))) -> Units? | V21: WQv = | W21: =IF(AL17=1,"0",IFERROR(ROUND(IF(AP16*Tables!F15*3630<0,0,AP16*Tables!F15*3630),0),"")) -> 0 | AA21: ft3 | AV21: =AV18+1 -> 6 | AW21: H&H calculations shall include all the information required to validate information provided on this form i.e. model
AP22: Hydrodymanic | AQ22: Snout | AW22: network schematic, existing drainage areas, proposed drainage areas, time of concentration, curve number, pre-development
B23: BMP Type | H23: Hydrodynamic Separator | S23: Snout / Hood | AL23: =IF(AND(ISBLANK(G23),ISBLANK(R23)),1,IF(G23>1,2,IF(R23>1,3,0))) -> 1 | AP23: Advanced Drainage Systems | AQ23: Advanced Drainage Systems | AW23: peak discharges, post-development peak discharges, outlet structure geometry, emergency spillway geometry,
F25: Manufacturer: | H25: =IF($AL$23=2,$AP$23,IF($AL$23=3,$AQ$23,AP23)) -> Advanced Drainage Systems | S25: =IF($AL$23=2,$AP$25,IF($AL$23=3,$AQ$25,AP25)) -> Contech | AC25: =IF($AL$23=2,$AP$27,IF($AL$23=3,$AQ$27,AP27)) -> Hydro International | AL25: =IF(AND(ISBLANK(G25),ISBLANK(R25),ISBLANK(AB25),ISBLANK(G27)),1,2) -> 1 | AP25: Contech | AQ25: Best Management Products | AW25: stage-area storage summary, discharge summary, inflow and outflow hydrographs, and outlet velocities.
H27: Other: | AL27: =IF(ISBLANK(G27),1,2) -> 1 | AP27: Hydro International | AQ27: Upstream Technologies | AV27: =AV21+1 -> 7 | AW27: Hydrodymanic Separator: Provide supporting data from the manufracturer to validate:
F29: Product Name: | V29: Model No.: | AW29: a. | AX29: Treatment flow rate*
AW30: b. | AX30: Allowable peak inline flow rate
B31: Storm Sewer Discharges | S31: Storm Treatment Chamber | AL31: =SUM(AL32:AL42) -> 0 | AW31: c. | AX31: Floatable / oil storage capacity
J32: Storm Sewer Line ID: | W32: Manhole ID: | AL32: =IF(ISBLANK(L32),0,1) -> 0 | AQ32: Area (ft2) | AR32: Area (ft2) | AS32: Area (ft2) | AW32: d. | AX32: Sediment storage capacity
H33: Drainage Area | I33: =IF($AM$16=0,"Units?",IF($AM$16=1,"(ac):",IF($AM$16=2,"(sq-ft):","Error"))) -> Units? | W33: Material: | AE33: Shape: | AL33: =IF(ISBLANK(L33),0,1) -> 0 | AM33: Dia. | AN33: W x L | AQ33: Diameter | AR33: W X L | AS33: Use | AW33: e. | AX33: Distance from water surface to top of sediment pile
J34: Curve Number: | W34: Diameter: | AA34: ft | AL34: =IF(ISBLANK(L34),0,1) -> 0 | AM34: =IF(ISBLANK(X34),1,2) -> 1 | AN34: =IF(AND(ISBLANK(X35),ISBLANK(AF35)),1,2) -> 1 | AQ34: =(X34/2)^2*3.14 -> 0 | AR34: =X35*AF35 -> 0 | AS34: =MAX(AQ34:AR34) -> 0 | AW34: f. | AX34: Distance from rim elevation to top of sediment pile
J35: Time of Concentration (min): | W35: Width: | AA35: ft | AE35: Length: | AI35: ft | AL35: =IF(ISBLANK(L35),0,1) -> 0 | AM35: =IF(ISBLANK(X34),0,1) -> 0 | AN35: =IF(OR(ISBLANK(X35),ISBLANK(AF35)),0,1) -> 0 | AO35: Sump | AP35: Rim | AW35: g. | AX35: Maximum sediment depth
D36: Peak Discharge (ft3/s) | F36: =Tables!$F$15 -> 1 | J36: =Tables!$D$15 -> (WQ) | W36: Sump EL: | AA36: ft | AE36: Rim EL.: | AI36: ft | AL36: =IF(ISBLANK(L36),0,1) -> 0 | AN36: =SUM(AM35:AN35) -> 0 | AO36: =IF(ISBLANK(X36),2,1) -> 2 | AP36: =IF(ISBLANK(AF36),2,1) -> 2 | AV36: 8 | AW36: Snout / Hood: Provide supporting data from the manufracturer to validate:
F37: =Tables!$F$16 -> 6.02 | J37: =Tables!$D$16 -> (2-yr) | AL37: =IF(ISBLANK(L37),0,1) -> 0 | AO37: =IF(OR(ISBLANK(X36),ISBLANK(AF36),ISBLANK(M65)),1,2) -> 1 | AW37: a. | AX37: Sediment storage capacity
F38: =Tables!$F$17 -> 7.68 | J38: =Tables!$D$17 -> (5-yr) | X38: Shape | AB38: Diameter | AG38: Inv. EL | AL38: =IF(ISBLANK(L38),0,1) -> 0 | AP38: Outlet pipe inv. | AW38: b. | AX38: Distance from water surface to top of sediment pile
F39: =Tables!$F$18 -> 9.26 | J39: =Tables!$D$18 -> (10-yr) | W39: Outlet Pipe: | AE39: in | AJ39: ft | AL39: =IF(ISBLANK(L39),0,1) -> 0 | AM39: =IF(ISBLANK(X39),1,2) -> 1 | AP39: =IF(ISBLANK(AG39),2,1) -> 2 | AW39: c. | AX39: Distance from rim elevation to top of sediment pile
F40: =Tables!$F$19 -> 11.7 | J40: =Tables!$D$19 -> (25-yr) | W40: Inlet Pipe 1: | AE40: in | AJ40: ft | AL40: =IF(ISBLANK(L40),0,1) -> 0 | AM40: =IF(ISBLANK(X40),1,2) -> 1 | AW40: d. | AX40: Maximum sediment depth
F41: =Tables!$F$20 -> 13.9 | J41: =Tables!$D$20 -> (50-yr) | W41: Inlet Pipe 2: | AE41: in | AJ41: ft | AL41: =IF(ISBLANK(L41),0,1) -> 0 | AM41: =IF(ISBLANK(X41),1,2) -> 1
F42: =Tables!$F$21 -> 16.3 | J42: =Tables!$D$21 -> (100-yr) | W42: Inlet Pipe 3: | AE42: in | AJ42: ft | AL42: =IF(ISBLANK(L42),0,1) -> 0 | AM42: =IF(ISBLANK(X42),1,2) -> 1 | AV42: Information provided below was obtained from the manufacturers data and is provided for information only
W43: Inlet Pipe 4: | AE43: in | AJ43: ft | AM43: =IF(ISBLANK(X43),1,2) -> 1
AL44: Lat | AM44: Long | AN44: Lat & Long | AP44: Lat Text | AQ44: Long Text | BK44: Diameter | BM44: Distance from water surface | BN44: to top of sediment pile | BP44: Sediment storage | BQ44: Capacity
W45: Latitude: | AE45: Longitude: | AL45: =IF(ISBLANK(X45),0,1) -> 0 | AM45: =IF(ISBLANK(AF45),0,1) -> 0 | AN45: =AL45+AM45 -> 0 | AP45: =IF(ISBLANK(X45),1,IF(ISTEXT(X45)=TRUE,3,2)) -> 1 | AQ45: =IF(ISBLANK(AF45),1,IF(ISTEXT(AF45)=TRUE,3,2)) -> 1
B47: Design Information
P48: Located on private property or private easement? | R48: Yes | U48: No | AL48: =IF(AND(ISBLANK(Q48),ISBLANK(T48)),1,2) -> 1 | AM48: =IF(ISBLANK(T48),1,2) -> 1 | AN48: =AL48+AM48 -> 2
P50: Accessible for maintenance? | R50: Yes | U50: No | AL50: =IF(AND(ISBLANK(Q50),ISBLANK(T50)),1,2) -> 1 | AM50: =IF(ISBLANK(T50),1,2) -> 1 | AN50: =AL50+AM50 -> 2
BH51: Model No.
C52: Maintenance Access Type: | L52: Manhole | R52: Grate Inlet | W52: Other: | AL52: =IF(AND(ISBLANK(K52),ISBLANK(Q52),ISBLANK(V52)),1,2) -> 1 | AM52: =IF(ISBLANK(V52),1,2) -> 1
...

Sheet Form 3E - As-built
O1: Form 3E - Hydrodynamic Separator or Snout / Hood As-Built Certification Form | BB1: =O1 -> Form 3E - Hydrodynamic Separator or Snout / Hood As-Built Certification Form
A6: Development Information | AC6: Parcel No.: | AD6: ='Form 2E - Design'!AC6 -> 0 | AM6: =LEN(AD6) -> 1 | AR6: Supplemental Instructions
D7: Name: | E7: ='Form 2E - Design'!$E$7 -> 0 | AE7: Date:
D8: Address: | E8: ='Form 2E - Design'!$E$8 -> 0 | AE8: BMP ID: | AF8: ='Form 2E - Design'!AE8 -> 0 | AR8: 1 | AS8: The developer / owner shall retain the services of a professional land surveyor to:
B10: Attachments: | H10: As-built Survey | O10: As-built H&H Calculations | Z10: =Tables!F24 -> O&M Plan | AI10: Photos | AS10: a. | AT10: Perform a field survey of the constructed hydrodynamic separator or snout / hood ; and,
A12: Hydrodynamic Separator or Snout / Hood | AS12: b. | AT12: Develop an as-built drawing.
B13: Design | U13: As-Built | AR13: 2 | AS13: As-built drawing, at a minimum, shall include the following:
B15: ='Form 2E - Design'!G23 -> 0 | C15: Hydrodynamic Separator: | L15: ='Form 2E - Design'!R23 -> 0 | M15: Snout / Hood: | V15: Hydrodynamic Separator: | AF15: Snout / Hood: | AM15: =IF(AND(ISBLANK(U15),ISBLANK(AE15)),1,2) -> 1 | AS15: a. | AT15: Site features to include but not limited to roads, rights-of-way, property lines, driveways, buildings,
A17: Manufacturer: | F17: ='Form 2E - Design'!G25 -> 0 | G17: ='Form 2E - Design'!H25 -> Advanced Drainage Systems | T17: Manufacturer: | Z17: =G17 -> Advanced Drainage Systems | AM17: =IF(AND(ISBLANK(Y17),ISBLANK(Y21),ISBLANK(Y19),ISBLANK(Y23)),1,2) -> 1 | AT17: parking areas, fences, retaining walls, dumpster pads, etc.
F19: ='Form 2E - Design'!R25 -> 0 | G19: ='Form 2E - Design'!S25 -> Contech | Z19: =G19 -> Contech | AS19: b. | AT19: Storm sewers showing pipes, inlets, junction boxes, outlets, outlet protection, and invert elevations
F21: ='Form 2E - Design'!AB25 -> 0 | G21: ='Form 2E - Design'!AC25 -> Hydro International | Z21: =G21 -> Hydro International | AS21: c. | AT21: Location of the hydrodynamic separator or snout / hood, rim elevation, sump elevation, inlet and outlet pipe elevations
F23: ='Form 2E - Design'!G27 -> 0 | G23: Other: | J23: ='Form 2E - Design'!K27 -> 0 | Z23: Other: | AM23: =IF(ISBLANK(Y23),1,2) -> 1 | AS23: d. | AT23: The as-built drawing shall bear the date, seal, and signature of the professional land surveyor.
E25: Product Name: | F25: ='Form 2E - Design'!G29 -> 0 | X25: Product Name: | AR25: 3 | AS25: The developer shall retain the services of a professional engineer to:
E26: Model No.: | F26: ='Form 2E - Design'!W29 -> 0 | X26: Model No.: | AS26: a. | AT26: Use the as-built drawing to complete Form 3E – Hydrodynamic Separator or Snout / Hood As-built Certification Form;
AS27: b. | AT27: Provide ALL required attachments:
A28: Storm Treatment Chamber: | M28: Manhole ID: | N28: ='Form 2E - Design'!X32 -> 0 | T28: Storm Treatment Chamber: | AF28: Manhole ID: | AN28: Area (ft2) | AT28: • | AU28: As-Built Survey Drawing(s)
E29: Material: | F29: ='Form 2E - Design'!X33 -> 0 | M29: Shape: | N29: ='Form 2E - Design'!AF33 -> 0 | X29: Material: | AF29: Shape: | AN29: Dia. | AO29: W X L | AP29: Use | AT29: • | AU29: H&H Calculations
E30: Diameter: | F30: ='Form 2E - Design'!X34 -> 0 | I30: ft | X30: Diameter: | AB30: ft | AM30: =IF(ISBLANK(Y30),1,2) -> 1 | AN30: =(Y30/2)^2*3.14 -> 0 | AO30: =Y31*AG31 -> 0 | AP30: =MAX(AN30:AO30) -> 0 | AT30: • | AU30: Photographs with date and captions
E31: Width: | F31: ='Form 2E - Design'!X35 -> 0 | I31: ft | M31: Length: | N31: ='Form 2E - Design'!AF35 -> 0 | Q31: ft | X31: Width: | AB31: ft | AF31: Length: | AJ31: ft | AM31: =IF(AND(ISBLANK(Y31),ISBLANK(AG31)),1,2) -> 1 | AT31: • | AU31: =Tables!F24 -> O&M Plan
E32: Sump EL: | F32: ='Form 2E - Design'!X36 -> 0 | I32: ft | M32: Rim EL.: | N32: ='Form 2E - Design'!AF36 -> 0 | Q32: ft | X32: Sump EL: | AB32: ft | AF32: Rim EL.: | AJ32: ft | AR32: 4 | AS32: Photographs, at a minimum, shall include the following:
F33: Shape | J33: Diameter | O33: Inv. EL | Y33: Shape | AC33: Diameter | AH33: Inv. EL | AS33: a. | AT33: General overview of hydrodynamic separator or snout / hood
E34: Outlet Pipe: | F34: ='Form 2E - Design'!X39 -> 0 | J34: ='Form 2E - Design'!AB39 -> 0 | M34: in | O34: ='Form 2E - Design'!AG39 -> 0 | R34: ft | X34: Outlet Pipe: | AF34: in | AK34: ft | AM34: =IF(ISBLANK(Y34),1,2) -> 1 | AS34: b. | AT34: Outlet pipe discharge location
E35: Inlet Pipe 1: | F35: ='Form 2E - Design'!X40 -> 0 | J35: ='Form 2E - Design'!AB40 -> 0 | M35: in | O35: ='Form 2E - Design'!AG40 -> 0 | R35: ft | X35: Inlet Pipe 1: | AF35: in | AK35: ft | AM35: =IF(ISBLANK(Y35),1,2) -> 1 | AR35: 5 | AS35: ="Form 3E – Hydrodynamic Separator or Snout / Hood As-built Certification Form shall be approved by the "&Tables!F23&" prior to:" -> Form 3E – Hydrodynamic Separator or Snout / Hood As-built Certification Form shall be approved by the County prior to:
E36: Inlet Pipe 2: | F36: ='Form 2E - Design'!X41 -> 0 | J36: ='Form 2E - Design'!AB41 -> 0 | M36: in | O36: ='Form 2E - Design'!AG41 -> 0 | R36: ft | X36: Inlet Pipe 2: | AF36: in | AK36: ft | AM36: =IF(ISBLANK(Y36),1,2) -> 1 | AS36: a. | AT36: The issuance of a Certificate of Occupancy; and/or,
E37: Inlet Pipe 3: | F37: ='Form 2E - Design'!X42 -> 0 | J37: ='Form 2E - Design'!AB42 -> 0 | M37: in | O37: ='Form 2E - Design'!AG42 -> 0 | R37: ft | X37: Inlet Pipe 3: | AF37: in | AK37: ft | AM37: =IF(ISBLANK(Y37),1,2) -> 1 | AS37: b. | AT37: Prior to approval of the Final Plat.
E38: Inlet Pipe 4: | F38: ='Form 2E - Design'!X43 -> 0 | J38: ='Form 2E - Design'!AB43 -> 0 | M38: in | O38: ='Form 2E - Design'!AG43 -> 0 | R38: ft | X38: Inlet Pipe 4: | AF38: in | AK38: ft | AM38: =IF(ISBLANK(Y38),1,2) -> 1
E40: Latitude: | F40: ='Form 2E - Design'!X45 -> 0 | M40: Longitude: | N40: ='Form 2E - Design'!AF45 -> 0 | X40: Latitude: | AF40: Longitude: | AM40: =IF(ISBLANK(Y40),1,2) -> 1 | AN40: Lat Text | AO40: =IF(ISBLANK(Y40),1,IF(ISTEXT(Y40)=TRUE,3,2)) -> 1
AM41: =IF(ISBLANK(AG40),1,2) -> 1 | AN41: Long Text | AO41: =IF(ISBLANK(AG40),1,IF(ISTEXT(AG40)=TRUE,3,2)) -> 1
A42: Manufacturer's Data: | T42: Manufacturer's Data:
M43: Treatment / Design Flow Rate: | N43: ='Form 2E - Design'!AQ63 | Q43: ft3/s | AF43: Treatment / Design Flow Rate: | AJ43: ft3/s | AM43: =IF(ISBLANK(AG43),1,2) -> 1 | AN43: =SUM(AM43:AM46,AM48) -> 6
M44: Allowable Peak Inline Flow Rate: | N44: ='Form 2E - Design'!AQ64 | Q44: ft3/s | AF44: Allowable Peak Inline Flow Rate: | AJ44: ft3/s | AM44: =IF(ISBLANK(AG44),1,2) -> 1
M45: Sediment Storage: | N45: ='Form 2E - Design'!AQ66 | Q45: ft3 | AF45: Sediment Storage: | AJ45: ft3 | AM45: =IF(ISBLANK(AG45),1,2) -> 1
M46: Floatable / Oil Storage: | N46: ='Form 2E - Design'!AQ68 | Q46: ft3 | AF46: Floatable / Oil Storage: | AJ46: ft3 | AM46: =IF(ISBLANK(AG46),1,2) -> 1
M47: Distance from outlet pipe invert | AF47: Distance from outlet pipe invert
M48: to top of sediment pile: | N48: ='Form 2E - Design'!AQ71 | Q48: ft | AF48: to top of sediment pile: | AG48: =IF(OR($Y$32=0,AH34=0,$AG$45=0),0,AH34-($Y$32+($AG$49/12))) -> 0 | AJ48: ft | AM48: =IF(ISBLANK(AG48),1,2) -> 2
M49: Maximum sediment depth: | N49: ='Form 2E - Design'!AQ65 | Q49: in | AF49: Maximum sediment depth: | AG49: =IF(OR(AG45=0,AN30=0),0,AG45/AN30*12) -> 0 | AJ49: in
M50: Distance from rim to top of sediment: | N50: ='Form 2E - Design'!AQ72 | Q50: ft | AF50: Distance from rim to top of sediment: | AG50: =IF(OR($Y$32=0,AG32=0,$AG$45=0),0,AG32-($Y$32+($AG$49/12))) -> 0 | AJ50: ft
A52: Maintenance Access Type: | T52: Maintenance Access Type:
B54: ='Form 2E - Design'!K52 -> 0 | C54: Manhole | G54: ='Form 2E - Design'!Q52 -> 0 | H54: Grate Inlet | V54: Manhole | AA54: Grate Inlet | AM54: =IF(AND(ISBLANK(U54),ISBLANK(Z54),ISBLANK(U56)),1,2) -> 1
B56: ='Form 2E - Design'!V52 -> 0 | C56: Other: | F56: ='Form 2E - Design'!Z52 -> 0 | V56: Other: | AM56: =IF(ISBLANK(U56),1,2) -> 1
...
